BEGIN:VCALENDAR
VERSION:2.0
PRODID:-//GNF - ECPv6.15.16//NONSGML v1.0//EN
CALSCALE:GREGORIAN
METHOD:PUBLISH
X-ORIGINAL-URL:https://gnf.ca
X-WR-CALDESC:Events for GNF
REFRESH-INTERVAL;VALUE=DURATION:PT1H
X-Robots-Tag:noindex
X-PUBLISHED-TTL:PT1H
BEGIN:VTIMEZONE
TZID:UTC
BEGIN:STANDARD
TZOFFSETFROM:+0000
TZOFFSETTO:+0000
TZNAME:UTC
DTSTART:20180101T000000
END:STANDARD
END:VTIMEZONE
BEGIN:VEVENT
DTSTART;TZID=UTC:20191017T190000
DTEND;TZID=UTC:20191017T210000
DTSTAMP:20260420T132131
CREATED:20191002T171045Z
LAST-MODIFIED:20191002T171045Z
UID:1933-1571338800-1571346000@gnf.ca
SUMMARY:Refugio Meeting
DESCRIPTION:(Formerly Dunamis) This small group meets every other week to pray together and to explore the Gifts of the Holy Spirit together. All are welcome to attend. Please email John Parsons for more information.
URL:https://gnf.ca/event/refugio-meeting-2/
LOCATION:GNF\, 891 St. Mary's Rd.\, Winnipeg\, Manitoba\, R2M 3R2\, Canada
CATEGORIES:Small Groups
ATTACH;FMTTYPE=image/png:https://gnf.ca/wp-content/uploads/2019/10/the-lord-is-my-refuge.png
ORGANIZER;CN="John Parsons":MAILTO:familyparsons2@gmail.com
END:VEVENT
BEGIN:VEVENT
DTSTART;TZID=UTC:20191016T190000
DTEND;TZID=UTC:20191016T210000
DTSTAMP:20260420T132131
CREATED:20191002T171437Z
LAST-MODIFIED:20191002T171437Z
UID:1935-1571252400-1571259600@gnf.ca
SUMMARY:TRC Book Study
DESCRIPTION:This group is committed to diving deeper into the Truth and Reconciliation Report through a dedicated study of the book “The Inconvenient Indian” by Thomas King. Contact Paul Unger for more details!
URL:https://gnf.ca/event/trc-book-study-7/
LOCATION:Paul Unger’s\, 981 Grosvner Ave.\, Winnipeg\, Manitoba\, R3M 0M6\, Canada
CATEGORIES:Small Groups
ATTACH;FMTTYPE=image/jpeg:https://gnf.ca/wp-content/uploads/2019/10/inconvienent-indian.jpg
ORGANIZER;CN="Paul Unger":MAILTO:punger09@gmail.com
END:VEVENT
BEGIN:VEVENT
DTSTART;TZID=UTC:20191012T090000
DTEND;TZID=UTC:20191012T113000
DTSTAMP:20260420T132131
CREATED:20191002T172104Z
LAST-MODIFIED:20191002T172104Z
UID:1944-1570870800-1570879800@gnf.ca
SUMMARY:Contemplative Bible Study
DESCRIPTION:This group talks about and deeply contemplates the word of God. Contact Jayne Vander Zaag for more details!
URL:https://gnf.ca/event/contemplative-bible-study-15/
LOCATION:Jayne Vander Zaag’s\, 247 Kingston Row\, Winnipeg\, Manitoba\, R2M 0T1\, Canada
CATEGORIES:Small Groups
ATTACH;FMTTYPE=image/jpeg:https://gnf.ca/wp-content/uploads/2018/10/bible-study_724_482_80.jpg
ORGANIZER;CN="Jayne Vander Zaag":MAILTO:jaynevdz@mts.net
END:VEVENT
BEGIN:VEVENT
DTSTART;TZID=UTC:20191003T190000
DTEND;TZID=UTC:20191003T210000
DTSTAMP:20260420T132131
CREATED:20191002T170848Z
LAST-MODIFIED:20191002T170848Z
UID:1930-1570129200-1570136400@gnf.ca
SUMMARY:Refugio Meeting
DESCRIPTION:(Formerly Dunamis) This small group meets every other week to pray together and to explore the Gifts of the Holy Spirit together. All are welcome to attend. Please email John Parsons for more information.
URL:https://gnf.ca/event/refugio-meeting/
LOCATION:GNF\, 891 St. Mary's Rd.\, Winnipeg\, Manitoba\, R2M 3R2\, Canada
CATEGORIES:Small Groups
ATTACH;FMTTYPE=image/png:https://gnf.ca/wp-content/uploads/2019/10/the-lord-is-my-refuge.png
ORGANIZER;CN="John Parsons":MAILTO:familyparsons2@gmail.com
END:VEVENT
BEGIN:VEVENT
DTSTART;TZID=UTC:20190622T090000
DTEND;TZID=UTC:20190622T113000
DTSTAMP:20260420T132131
CREATED:20190430T202643Z
LAST-MODIFIED:20190430T203033Z
UID:1802-1561194000-1561203000@gnf.ca
SUMMARY:Contemplative Bible Study
DESCRIPTION:This group talks about and deeply contemplates the word of God. Contact Jayne Vander Zaag for more details!
URL:https://gnf.ca/event/contemplative-bible-study-17/
LOCATION:Jayne Vander Zaag’s\, 247 Kingston Row\, Winnipeg\, Manitoba\, R2M 0T1\, Canada
CATEGORIES:Small Groups
ATTACH;FMTTYPE=image/jpeg:https://gnf.ca/wp-content/uploads/2018/10/bible-study_724_482_80.jpg
ORGANIZER;CN="Jayne Vander Zaag":MAILTO:jaynevdz@mts.net
END:VEVENT
BEGIN:VEVENT
DTSTART;TZID=UTC:20190621T190000
DTEND;TZID=UTC:20190621T210000
DTSTAMP:20260420T132131
CREATED:20190529T183543Z
LAST-MODIFIED:20190529T183543Z
UID:1817-1561143600-1561150800@gnf.ca
SUMMARY:Unbored Game Night
DESCRIPTION:FREE EVENT! Enjoy a fun evening spent with family\, friends and fellow members of your community. Feel free to bring games from home that you enjoy and some snacks to share! Also\, you’ll have a chance to meet some folks from the CRCNA’s Resonate mission! Our church is participating in Resonate’s Go Local initiative\, so come on out and meet some of the people helping and supporting us through that journey!
URL:https://gnf.ca/event/unbored-game-night-7/
LOCATION:GNF\, 891 St. Mary's Rd.\, Winnipeg\, Manitoba\, R2M 3R2\, Canada
CATEGORIES:Small Groups
ATTACH;FMTTYPE=image/jpeg:https://gnf.ca/wp-content/uploads/2019/01/BoardGames-logo.jpg
ORGANIZER;CN="Cathie Chapman":MAILTO:info@gnf.ca
END:VEVENT
BEGIN:VEVENT
DTSTART;TZID=UTC:20190620T080000
DTEND;TZID=UTC:20190620T170000
DTSTAMP:20260420T132131
CREATED:20190430T202859Z
LAST-MODIFIED:20190430T202859Z
UID:1806-1561017600-1561050000@gnf.ca
SUMMARY:Dunamis Meeting
DESCRIPTION:This small group meets every other week to pray together and to explore the Gifts of the Holy Spirit together. All are welcome to attend. Please email John Parsons for more information.
URL:https://gnf.ca/event/dunamis-meeting-16/
LOCATION:GNF\, 891 St. Mary's Rd.\, Winnipeg\, Manitoba\, R2M 3R2\, Canada
CATEGORIES:Small Groups
ATTACH;FMTTYPE=image/png:https://gnf.ca/wp-content/uploads/2018/10/Gtcsignup.png
ORGANIZER;CN="John Parsons":MAILTO:familyparsons2@gmail.com
END:VEVENT
BEGIN:VEVENT
DTSTART;TZID=UTC:20190608T090000
DTEND;TZID=UTC:20190608T113000
DTSTAMP:20260420T132131
CREATED:20190430T202549Z
LAST-MODIFIED:20190430T202957Z
UID:1800-1559984400-1559993400@gnf.ca
SUMMARY:Contemplative Bible Study
DESCRIPTION:This group talks about and deeply contemplates the word of God. Contact Jayne Vander Zaag for more details!
URL:https://gnf.ca/event/contemplative-bible-study-16/
LOCATION:Jayne Vander Zaag’s\, 247 Kingston Row\, Winnipeg\, Manitoba\, R2M 0T1\, Canada
CATEGORIES:Small Groups
ATTACH;FMTTYPE=image/jpeg:https://gnf.ca/wp-content/uploads/2018/10/bible-study_724_482_80.jpg
ORGANIZER;CN="Jayne Vander Zaag":MAILTO:jaynevdz@mts.net
END:VEVENT
BEGIN:VEVENT
DTSTART;TZID=UTC:20190606T190000
DTEND;TZID=UTC:20190606T210000
DTSTAMP:20260420T132131
CREATED:20190430T202812Z
LAST-MODIFIED:20190430T202812Z
UID:1804-1559847600-1559854800@gnf.ca
SUMMARY:Dunamis Meeting
DESCRIPTION:This small group meets every other week to pray together and to explore the Gifts of the Holy Spirit together. All are welcome to attend. Please email John Parsons for more information.
URL:https://gnf.ca/event/dunamis-meeting-15/
LOCATION:GNF\, 891 St. Mary's Rd.\, Winnipeg\, Manitoba\, R2M 3R2\, Canada
CATEGORIES:Small Groups
ATTACH;FMTTYPE=image/png:https://gnf.ca/wp-content/uploads/2018/10/Gtcsignup.png
ORGANIZER;CN="John Parsons":MAILTO:familyparsons2@gmail.com
END:VEVENT
BEGIN:VEVENT
DTSTART;TZID=UTC:20190531T190000
DTEND;TZID=UTC:20190531T210000
DTSTAMP:20260420T132131
CREATED:20190529T182914Z
LAST-MODIFIED:20190529T182914Z
UID:1815-1559329200-1559336400@gnf.ca
SUMMARY:Unbored Game Night
DESCRIPTION:FREE EVENT! Enjoy a fun evening spent with family\, friends and fellow members of your community. Feel free to bring games from home that you enjoy and some snacks to share!
URL:https://gnf.ca/event/unbored-game-night-6/
LOCATION:GNF\, 891 St. Mary's Rd.\, Winnipeg\, Manitoba\, R2M 3R2\, Canada
CATEGORIES:Small Groups
ATTACH;FMTTYPE=image/jpeg:https://gnf.ca/wp-content/uploads/2019/01/BoardGames-logo.jpg
ORGANIZER;CN="Cathie Chapman":MAILTO:info@gnf.ca
END:VEVENT
BEGIN:VEVENT
DTSTART;TZID=UTC:20190523T193000
DTEND;TZID=UTC:20190523T213000
DTSTAMP:20260420T132131
CREATED:20190401T174554Z
LAST-MODIFIED:20190401T174554Z
UID:1753-1558639800-1558647000@gnf.ca
SUMMARY:Bros & Brews
DESCRIPTION:A guys’ group that meets once a month to try out local brew houses and chat about life\, the universe and everything. The occasional #DadJoke is allowed but being a dad is not required! This group is primarily dedicated to connecting and sharing our joys and struggles as men of God.
URL:https://gnf.ca/event/bros-brews-5/
LOCATION:Nonsuch Brewing Co.\, 125 Pacific Ave\, Winnipeg\, Manitoba\, R3B 0M1\, Canada
CATEGORIES:Small Groups
ATTACH;FMTTYPE=image/jpeg:https://gnf.ca/wp-content/uploads/2018/10/Guys-Group.jpg
ORGANIZER;CN="Jeremy Wells":MAILTO:jwellsmusic@gmail.com
END:VEVENT
BEGIN:VEVENT
DTSTART;TZID=UTC:20190523T190000
DTEND;TZID=UTC:20190523T210000
DTSTAMP:20260420T132131
CREATED:20190401T174015Z
LAST-MODIFIED:20190401T174015Z
UID:1747-1558638000-1558645200@gnf.ca
SUMMARY:Dunamis Meeting
DESCRIPTION:This small group meets every other week to pray together and to explore the Gifts of the Holy Spirit together. All are welcome to attend. Please email John Parsons for more information.
URL:https://gnf.ca/event/dunamis-meeting-14/
LOCATION:GNF\, 891 St. Mary's Rd.\, Winnipeg\, Manitoba\, R2M 3R2\, Canada
CATEGORIES:Small Groups
ATTACH;FMTTYPE=image/png:https://gnf.ca/wp-content/uploads/2018/10/Gtcsignup.png
ORGANIZER;CN="John Parsons":MAILTO:familyparsons2@gmail.com
END:VEVENT
BEGIN:VEVENT
DTSTART;TZID=UTC:20190511T090000
DTEND;TZID=UTC:20190511T110000
DTSTAMP:20260420T132131
CREATED:20190401T174151Z
LAST-MODIFIED:20190401T174212Z
UID:1749-1557565200-1557572400@gnf.ca
SUMMARY:Contemplative Bible Study
DESCRIPTION:This group talks about and deeply contemplates the word of God. Contact Jayne Vander Zaag for more details!
URL:https://gnf.ca/event/contemplative-bible-study-14/
LOCATION:Jayne Vander Zaag’s\, 247 Kingston Row\, Winnipeg\, Manitoba\, R2M 0T1\, Canada
CATEGORIES:Small Groups
ATTACH;FMTTYPE=image/jpeg:https://gnf.ca/wp-content/uploads/2018/10/bible-study_724_482_80.jpg
ORGANIZER;CN="Jayne Vander Zaag":MAILTO:jaynevdz@mts.net
END:VEVENT
BEGIN:VEVENT
DTSTART;TZID=UTC:20190509T190000
DTEND;TZID=UTC:20190509T210000
DTSTAMP:20260420T132131
CREATED:20190401T173922Z
LAST-MODIFIED:20190401T174041Z
UID:1745-1557428400-1557435600@gnf.ca
SUMMARY:Dunamis Meeting
DESCRIPTION:This small group meets every other week to pray together and to explore the Gifts of the Holy Spirit together. All are welcome to attend. Please email John Parsons for more information.
URL:https://gnf.ca/event/dunamis-meeting-13/
LOCATION:GNF\, 891 St. Mary's Rd.\, Winnipeg\, Manitoba\, R2M 3R2\, Canada
CATEGORIES:Small Groups
ATTACH;FMTTYPE=image/png:https://gnf.ca/wp-content/uploads/2018/10/Gtcsignup.png
ORGANIZER;CN="John Parsons":MAILTO:familyparsons2@gmail.com
END:VEVENT
BEGIN:VEVENT
DTSTART;TZID=UTC:20190430T190000
DTEND;TZID=UTC:20190430T210000
DTSTAMP:20260420T132131
CREATED:20190425T192204Z
LAST-MODIFIED:20190425T192204Z
UID:1780-1556650800-1556658000@gnf.ca
SUMMARY:TRC Book Study
DESCRIPTION:This group is committed to diving deeper into the Truth and Reconciliation Report through a dedicated study of the book “21 Things You May Not Know About the Indian Act” by Bob Joseph. Contact Paul Unger for more details!
URL:https://gnf.ca/event/trc-book-study-6/
LOCATION:Paul Unger’s\, 981 Grosvner Ave.\, Winnipeg\, Manitoba\, R3M 0M6\, Canada
CATEGORIES:Small Groups
ATTACH;FMTTYPE=image/jpeg:https://gnf.ca/wp-content/uploads/2018/10/0995266522.jpg
ORGANIZER;CN="Paul Unger":MAILTO:punger09@gmail.com
END:VEVENT
BEGIN:VEVENT
DTSTART;TZID=UTC:20190427T090000
DTEND;TZID=UTC:20190427T110000
DTSTAMP:20260420T132131
CREATED:20190313T174856Z
LAST-MODIFIED:20190313T174856Z
UID:1685-1556355600-1556362800@gnf.ca
SUMMARY:Contemplative Bible Study
DESCRIPTION:This group talks about and deeply contemplates the word of God. Contact Jayne Vander Zaag for more details!
URL:https://gnf.ca/event/contemplative-bible-study-13/
LOCATION:Jayne Vander Zaag’s\, 247 Kingston Row\, Winnipeg\, Manitoba\, R2M 0T1\, Canada
CATEGORIES:Small Groups
ATTACH;FMTTYPE=image/jpeg:https://gnf.ca/wp-content/uploads/2018/10/bible-study_724_482_80.jpg
ORGANIZER;CN="Jayne Vander Zaag":MAILTO:jaynevdz@mts.net
END:VEVENT
BEGIN:VEVENT
DTSTART;TZID=UTC:20190425T193000
DTEND;TZID=UTC:20190425T210000
DTSTAMP:20260420T132131
CREATED:20190313T175500Z
LAST-MODIFIED:20190401T171258Z
UID:1697-1556220600-1556226000@gnf.ca
SUMMARY:Bros & Brews
DESCRIPTION:A guys’ group that meets once a month to try out local brew houses and chat about life\, the universe and everything. The occasional #DadJoke is allowed but being a dad is not required! This group is primarily dedicated to connecting and sharing our joys and struggles as men of God.
URL:https://gnf.ca/event/bros-brews-4/
LOCATION:Sookram’s Brewing Company\, 479-B Warsaw Ave\, Winnipeg\, Manitoba\, R3L 0R2\, Canada
CATEGORIES:Small Groups
ATTACH;FMTTYPE=image/jpeg:https://gnf.ca/wp-content/uploads/2018/10/Guys-Group.jpg
ORGANIZER;CN="Don Amero":MAILTO:donamero@gmail.com
END:VEVENT
BEGIN:VEVENT
DTSTART;TZID=UTC:20190425T190000
DTEND;TZID=UTC:20190425T210000
DTSTAMP:20260420T132131
CREATED:20190313T175102Z
LAST-MODIFIED:20190313T175102Z
UID:1691-1556218800-1556226000@gnf.ca
SUMMARY:Dunamis Meeting
DESCRIPTION:This small group meets every other week to pray together and to explore the Gifts of the Holy Spirit together. All are welcome to attend. Please email John Parsons for more information.
URL:https://gnf.ca/event/dunamis-meeting-12/
LOCATION:GNF\, 891 St. Mary's Rd.\, Winnipeg\, Manitoba\, R2M 3R2\, Canada
CATEGORIES:Small Groups
ATTACH;FMTTYPE=image/png:https://gnf.ca/wp-content/uploads/2018/10/Gtcsignup.png
ORGANIZER;CN="John Parsons":MAILTO:familyparsons2@gmail.com
END:VEVENT
BEGIN:VEVENT
DTSTART;TZID=UTC:20190413T090000
DTEND;TZID=UTC:20190413T110000
DTSTAMP:20260420T132131
CREATED:20190313T174809Z
LAST-MODIFIED:20190313T174809Z
UID:1683-1555146000-1555153200@gnf.ca
SUMMARY:Contemplative Bible Study
DESCRIPTION:This group talks about and deeply contemplates the word of God. Contact Jayne Vander Zaag for more details!
URL:https://gnf.ca/event/contemplative-bible-study-12/
LOCATION:Jayne Vander Zaag’s\, 247 Kingston Row\, Winnipeg\, Manitoba\, R2M 0T1\, Canada
CATEGORIES:Small Groups
ATTACH;FMTTYPE=image/jpeg:https://gnf.ca/wp-content/uploads/2018/10/bible-study_724_482_80.jpg
ORGANIZER;CN="Jayne Vander Zaag":MAILTO:jaynevdz@mts.net
END:VEVENT
BEGIN:VEVENT
DTSTART;TZID=UTC:20190412T190000
DTEND;TZID=UTC:20190412T210000
DTSTAMP:20260420T132131
CREATED:20190401T170513Z
LAST-MODIFIED:20190401T170513Z
UID:1733-1555095600-1555102800@gnf.ca
SUMMARY:Unbored Game Night
DESCRIPTION:FREE EVENT! Enjoy a fun evening spent with family\, friends and fellow members of your community. Feel free to bring games from home that you enjoy and some snacks to share!
URL:https://gnf.ca/event/unbored-game-night-5/
LOCATION:GNF\, 891 St. Mary's Rd.\, Winnipeg\, Manitoba\, R2M 3R2\, Canada
CATEGORIES:Small Groups
ATTACH;FMTTYPE=image/jpeg:https://gnf.ca/wp-content/uploads/2019/01/BoardGames-logo.jpg
ORGANIZER;CN="Cathie Chapman":MAILTO:info@gnf.ca
END:VEVENT
BEGIN:VEVENT
DTSTART;TZID=UTC:20190330T090000
DTEND;TZID=UTC:20190330T110000
DTSTAMP:20260420T132131
CREATED:20190220T202923Z
LAST-MODIFIED:20190220T202923Z
UID:1649-1553936400-1553943600@gnf.ca
SUMMARY:Contemplative Bible Study
DESCRIPTION:This group talks about and deeply contemplates the word of God. Contact Jayne Vander Zaag for more details!
URL:https://gnf.ca/event/contemplative-bible-study-11/
LOCATION:Jayne Vander Zaag’s\, 247 Kingston Row\, Winnipeg\, Manitoba\, R2M 0T1\, Canada
CATEGORIES:Small Groups
ATTACH;FMTTYPE=image/jpeg:https://gnf.ca/wp-content/uploads/2018/10/bible-study_724_482_80.jpg
ORGANIZER;CN="Jayne Vander Zaag":MAILTO:jaynevdz@mts.net
END:VEVENT
BEGIN:VEVENT
DTSTART;TZID=UTC:20190328T190000
DTEND;TZID=UTC:20190328T210000
DTSTAMP:20260420T132131
CREATED:20190313T174949Z
LAST-MODIFIED:20190313T174949Z
UID:1687-1553799600-1553806800@gnf.ca
SUMMARY:Dunamis Meeting
DESCRIPTION:This small group meets every other week to pray together and to explore the Gifts of the Holy Spirit together. All are welcome to attend. Please email John Parsons for more information.
URL:https://gnf.ca/event/dunamis-meeting-10/
LOCATION:GNF\, 891 St. Mary's Rd.\, Winnipeg\, Manitoba\, R2M 3R2\, Canada
CATEGORIES:Small Groups
ATTACH;FMTTYPE=image/png:https://gnf.ca/wp-content/uploads/2018/10/Gtcsignup.png
ORGANIZER;CN="John Parsons":MAILTO:familyparsons2@gmail.com
END:VEVENT
BEGIN:VEVENT
DTSTART;TZID=UTC:20190320T193000
DTEND;TZID=UTC:20190320T213000
DTSTAMP:20260420T132131
CREATED:20190313T173619Z
LAST-MODIFIED:20190319T141523Z
UID:1666-1553110200-1553117400@gnf.ca
SUMMARY:Bros & Brews
DESCRIPTION:A guys’ group that meets once a month to try out local brew houses and chat about life\, the universe and everything. The occasional #DadJoke is allowed but being a dad is not required! This group is primarily dedicated to connecting and sharing our joys and struggles as men of God.
URL:https://gnf.ca/event/bros-brews-3/
LOCATION:Stone Angel Brewing Co.\, 1875 Pembina Hwy\, Winnipeg\, Manitoba\, R3T 2G7\, Canada
CATEGORIES:Small Groups
ATTACH;FMTTYPE=image/jpeg:https://gnf.ca/wp-content/uploads/2018/10/Guys-Group.jpg
ORGANIZER;CN="Don Amero":MAILTO:donamero@gmail.com
END:VEVENT
BEGIN:VEVENT
DTSTART;TZID=UTC:20190316T090000
DTEND;TZID=UTC:20190316T110000
DTSTAMP:20260420T132131
CREATED:20190220T202830Z
LAST-MODIFIED:20190220T202830Z
UID:1647-1552726800-1552734000@gnf.ca
SUMMARY:Contemplative Bible Study
DESCRIPTION:This group talks about and deeply contemplates the word of God. Contact Jayne Vander Zaag for more details!
URL:https://gnf.ca/event/contemplative-bible-study-10/
LOCATION:Jayne Vander Zaag’s\, 247 Kingston Row\, Winnipeg\, Manitoba\, R2M 0T1\, Canada
CATEGORIES:Small Groups
ATTACH;FMTTYPE=image/jpeg:https://gnf.ca/wp-content/uploads/2018/10/bible-study_724_482_80.jpg
ORGANIZER;CN="Jayne Vander Zaag":MAILTO:jaynevdz@mts.net
END:VEVENT
BEGIN:VEVENT
DTSTART;TZID=UTC:20190315T190000
DTEND;TZID=UTC:20190315T210000
DTSTAMP:20260420T132131
CREATED:20190313T173802Z
LAST-MODIFIED:20190313T173802Z
UID:1668-1552676400-1552683600@gnf.ca
SUMMARY:Unbored Game Night
DESCRIPTION:FREE EVENT! Enjoy a fun evening spent with family\, friends and fellow members of your community. Feel free to bring games from home that you enjoy and some snacks to share!
URL:https://gnf.ca/event/unbored-game-night-4/
LOCATION:GNF\, 891 St. Mary's Rd.\, Winnipeg\, Manitoba\, R2M 3R2\, Canada
CATEGORIES:Small Groups
ATTACH;FMTTYPE=image/jpeg:https://gnf.ca/wp-content/uploads/2019/01/BoardGames-logo.jpg
ORGANIZER;CN="Cathie Chapman":MAILTO:info@gnf.ca
END:VEVENT
BEGIN:VEVENT
DTSTART;TZID=UTC:20190314T190000
DTEND;TZID=UTC:20190314T210000
DTSTAMP:20260420T132131
CREATED:20190313T173420Z
LAST-MODIFIED:20190313T173420Z
UID:1662-1552590000-1552597200@gnf.ca
SUMMARY:Dunamis Meeting
DESCRIPTION:This small group meets every other week to pray together and to explore the Gifts of the Holy Spirit together. All are welcome to attend. Please email John Parsons for more information.
URL:https://gnf.ca/event/dunamis-meeting-9/
LOCATION:GNF\, 891 St. Mary's Rd.\, Winnipeg\, Manitoba\, R2M 3R2\, Canada
CATEGORIES:Small Groups
ATTACH;FMTTYPE=image/png:https://gnf.ca/wp-content/uploads/2018/10/Gtcsignup.png
ORGANIZER;CN="John Parsons":MAILTO:familyparsons2@gmail.com
END:VEVENT
BEGIN:VEVENT
DTSTART;TZID=UTC:20190302T090000
DTEND;TZID=UTC:20190302T110000
DTSTAMP:20260420T132131
CREATED:20190220T202738Z
LAST-MODIFIED:20190220T202738Z
UID:1645-1551517200-1551524400@gnf.ca
SUMMARY:Contemplative Bible Study
DESCRIPTION:This group talks about and deeply contemplates the word of God. Contact Jayne Vander Zaag for more details!
URL:https://gnf.ca/event/contemplative-bible-study-9/
LOCATION:Jayne Vander Zaag’s\, 247 Kingston Row\, Winnipeg\, Manitoba\, R2M 0T1\, Canada
CATEGORIES:Small Groups
ATTACH;FMTTYPE=image/jpeg:https://gnf.ca/wp-content/uploads/2018/10/bible-study_724_482_80.jpg
ORGANIZER;CN="Jayne Vander Zaag":MAILTO:jaynevdz@mts.net
END:VEVENT
BEGIN:VEVENT
DTSTART;TZID=UTC:20190228T190000
DTEND;TZID=UTC:20190228T210000
DTSTAMP:20260420T132131
CREATED:20190130T161547Z
LAST-MODIFIED:20190130T161547Z
UID:1605-1551380400-1551387600@gnf.ca
SUMMARY:Dunamis Meeting
DESCRIPTION:This small group meets every other week to pray together and to explore the Gifts of the Holy Spirit together. All are welcome to attend. Please email John Parsons for more information.
URL:https://gnf.ca/event/dunamis-meeting-8/
LOCATION:GNF\, 891 St. Mary's Rd.\, Winnipeg\, Manitoba\, R2M 3R2\, Canada
CATEGORIES:Small Groups
ATTACH;FMTTYPE=image/png:https://gnf.ca/wp-content/uploads/2018/10/Gtcsignup.png
ORGANIZER;CN="John Parsons":MAILTO:familyparsons2@gmail.com
END:VEVENT
BEGIN:VEVENT
DTSTART;TZID=UTC:20190221T193000
DTEND;TZID=UTC:20190221T213000
DTSTAMP:20260420T132131
CREATED:20190130T162041Z
LAST-MODIFIED:20190205T222720Z
UID:1607-1550777400-1550784600@gnf.ca
SUMMARY:Bros & Brews
DESCRIPTION:A guys’ group that meets once a month to try out local brew houses and chat about life\, the universe and everything. The occasional #DadJoke is allowed but being a dad is not required! This group is primarily dedicated to connecting and sharing our joys and struggles as men of God.
URL:https://gnf.ca/event/bros-brews-2/
LOCATION:Brazen Hall\, 800 Pembina Hwy.\, Winnipeg\, Manitoba\, R3M 2M7\, Canada
CATEGORIES:Small Groups
ATTACH;FMTTYPE=image/jpeg:https://gnf.ca/wp-content/uploads/2018/10/Guys-Group.jpg
ORGANIZER;CN="Jeremy Wells":MAILTO:jwellsmusic@gmail.com
END:VEVENT
BEGIN:VEVENT
DTSTART;TZID=UTC:20190216T090000
DTEND;TZID=UTC:20190216T103000
DTSTAMP:20260420T132131
CREATED:20190130T161339Z
LAST-MODIFIED:20190130T161339Z
UID:1601-1550307600-1550313000@gnf.ca
SUMMARY:Contemplative Bible Study
DESCRIPTION:This group talks about and deeply contemplates the word of God. Contact Jayne Vander Zaag for more details!
URL:https://gnf.ca/event/contemplative-bible-study-8/
LOCATION:Jayne Vander Zaag’s\, 247 Kingston Row\, Winnipeg\, Manitoba\, R2M 0T1\, Canada
CATEGORIES:Small Groups
ATTACH;FMTTYPE=image/jpeg:https://gnf.ca/wp-content/uploads/2018/10/bible-study_724_482_80.jpg
ORGANIZER;CN="Jayne Vander Zaag":MAILTO:jaynevdz@mts.net
END:VEVENT
END:VCALENDAR