BEGIN:VCALENDAR
VERSION:2.0
PRODID:-//GNF - ECPv6.15.16//NONSGML v1.0//EN
CALSCALE:GREGORIAN
METHOD:PUBLISH
X-WR-CALNAME:GNF
X-ORIGINAL-URL:https://gnf.ca
X-WR-CALDESC:Events for GNF
REFRESH-INTERVAL;VALUE=DURATION:PT1H
X-Robots-Tag:noindex
X-PUBLISHED-TTL:PT1H
BEGIN:VTIMEZONE
TZID:UTC
BEGIN:STANDARD
TZOFFSETFROM:+0000
TZOFFSETTO:+0000
TZNAME:UTC
DTSTART:20180101T000000
END:STANDARD
END:VTIMEZONE
BEGIN:VEVENT
DTSTART;TZID=UTC:20200313T190000
DTEND;TZID=UTC:20200313T210000
DTSTAMP:20260420T100537
CREATED:20200305T214041Z
LAST-MODIFIED:20200305T214041Z
UID:2116-1584126000-1584133200@gnf.ca
SUMMARY:Games Night
DESCRIPTION:FREE EVENT! Enjoy a fun evening spent with family\, friends and fellow members of your community. Feel free to bring board games from home that you enjoy and some snacks to share!
URL:https://gnf.ca/event/games-night-5/
LOCATION:GNF\, 891 St. Mary's Rd.\, Winnipeg\, Manitoba\, R2M 3R2\, Canada
CATEGORIES:Small Groups
ATTACH;FMTTYPE=image/jpeg:https://gnf.ca/wp-content/uploads/2019/01/BoardGames-logo.jpg
ORGANIZER;CN="Katrina Vandal":MAILTO:kitkat101forever@gmail.com
END:VEVENT
BEGIN:VEVENT
DTSTART;TZID=UTC:20200312T190000
DTEND;TZID=UTC:20200312T210000
DTSTAMP:20260420T100537
CREATED:20200305T213601Z
LAST-MODIFIED:20200305T213601Z
UID:2112-1584039600-1584046800@gnf.ca
SUMMARY:Refugio
DESCRIPTION:This small group meets every other week to pray together and to explore the Gifts of the Holy Spirit together. All are welcome to attend. Please email John Parsons for more information.
URL:https://gnf.ca/event/refugio-3/
LOCATION:GNF\, 891 St. Mary's Rd.\, Winnipeg\, Manitoba\, R2M 3R2\, Canada
CATEGORIES:Small Groups
ATTACH;FMTTYPE=image/png:https://gnf.ca/wp-content/uploads/2019/10/the-lord-is-my-refuge.png
ORGANIZER;CN="John Parsons":MAILTO:familyparsons2@gmail.com
END:VEVENT
BEGIN:VEVENT
DTSTART;TZID=UTC:20200226T190000
DTEND;TZID=UTC:20200226T210000
DTSTAMP:20260420T100537
CREATED:20200218T161735Z
LAST-MODIFIED:20200218T161735Z
UID:2088-1582743600-1582750800@gnf.ca
SUMMARY:Wednesday for Women
DESCRIPTION:Bros & Brews for women! We need a good name yet\, but the intent is the same – a women’s group that meets once a month to try out local restaurants and chat about life\, the universe and everything. The occasional #MomJoke is allowed but being a mom is not required! This group is primarily dedicated to connecting and sharing our joys and struggles as women of God.
URL:https://gnf.ca/event/wednesday-for-women-2/
LOCATION:Baked Expectations\, 161 Osborne St\, Winnipeg\, Manitoba\, R3L 1Y7\, Canada
CATEGORIES:Small Groups
ATTACH;FMTTYPE=image/jpeg:https://gnf.ca/wp-content/uploads/2020/01/women.jpeg
ORGANIZER;CN="Sam Hupe-Wells":MAILTO:samhupe@gmail.com
END:VEVENT
BEGIN:VEVENT
DTSTART;TZID=UTC:20200221T190000
DTEND;TZID=UTC:20200221T210000
DTSTAMP:20260420T100537
CREATED:20200120T154850Z
LAST-MODIFIED:20200218T162122Z
UID:2077-1582311600-1582318800@gnf.ca
SUMMARY:Games Night
DESCRIPTION:FREE EVENT! Enjoy a fun evening spent with family\, friends and fellow members of your community. Feel free to bring board games from home that you enjoy and some snacks to share!
URL:https://gnf.ca/event/games-night-4/
LOCATION:GNF\, 891 St. Mary's Rd.\, Winnipeg\, Manitoba\, R2M 3R2\, Canada
CATEGORIES:Small Groups
ATTACH;FMTTYPE=image/jpeg:https://gnf.ca/wp-content/uploads/2019/01/BoardGames-logo.jpg
ORGANIZER;CN="Katrina Vandal":MAILTO:kitkat101forever@gmail.com
END:VEVENT
BEGIN:VEVENT
DTSTART;TZID=UTC:20200220T190000
DTEND;TZID=UTC:20200220T210000
DTSTAMP:20260420T100537
CREATED:20200218T161401Z
LAST-MODIFIED:20200218T161401Z
UID:2085-1582225200-1582232400@gnf.ca
SUMMARY:Bros & Brews
DESCRIPTION:A guys’ group that meets once a month to try out local brew houses and chat about life\, the universe and everything. The occasional #DadJoke is allowed but being a dad is not required! This group is primarily dedicated to connecting and sharing our joys and struggles as men of God.
URL:https://gnf.ca/event/bros-brews-9/
LOCATION:Half Pints Brewing Co.\, 550 Roseberry St\, Winnipeg\, Manitoba\, R3H 0T1\, Canada
CATEGORIES:Small Groups
ATTACH;FMTTYPE=image/jpeg:https://gnf.ca/wp-content/uploads/2018/10/Guys-Group.jpg
ORGANIZER;CN="Jeremy Wells":MAILTO:jwellsmusic@gmail.com
END:VEVENT
BEGIN:VEVENT
DTSTART;TZID=UTC:20200204T194500
DTEND;TZID=UTC:20200204T214500
DTSTAMP:20260420T100537
CREATED:20200109T170707Z
LAST-MODIFIED:20200109T170707Z
UID:2061-1580845500-1580852700@gnf.ca
SUMMARY:TRC Group
DESCRIPTION:This group is committed to diving deeper into the Truth and Reconciliation Report. Join them tonight as they meet to discuss what their next study/activity will be!
URL:https://gnf.ca/event/trc-group/
LOCATION:Paul Unger’s\, 981 Grosvner Ave.\, Winnipeg\, Manitoba\, R3M 0M6\, Canada
CATEGORIES:Small Groups
ATTACH;FMTTYPE=image/gif:https://gnf.ca/wp-content/uploads/2020/01/trc-hands.gif
ORGANIZER;CN="Paul Unger":MAILTO:punger09@gmail.com
END:VEVENT
BEGIN:VEVENT
DTSTART;TZID=UTC:20200129T190000
DTEND;TZID=UTC:20200129T210000
DTSTAMP:20260420T100537
CREATED:20200120T153618Z
LAST-MODIFIED:20200120T153618Z
UID:2067-1580324400-1580331600@gnf.ca
SUMMARY:Wednesday for Women
DESCRIPTION:Bros & Brews for women! We need a good name yet\, but the intent is the same – a women’s group that meets once a month to try out local restaurants and chat about life\, the universe and everything. The occasional #MomJoke is allowed but being a mom is not required! This group is primarily dedicated to connecting and sharing our joys and struggles as women of God.
URL:https://gnf.ca/event/wednesday-for-women/
LOCATION:Amsterdam Tea Room\, 211 Bannatyne Ave.\, Winnipeg\, Manitoba\, R3B 1M3\, Canada
CATEGORIES:Small Groups
ATTACH;FMTTYPE=image/jpeg:https://gnf.ca/wp-content/uploads/2020/01/women.jpeg
ORGANIZER;CN="Krista dela Rosa":MAILTO:krista@gnf.ca
END:VEVENT
BEGIN:VEVENT
DTSTART;TZID=UTC:20200123T190000
DTEND;TZID=UTC:20200123T210000
DTSTAMP:20260420T100537
CREATED:20200120T152819Z
LAST-MODIFIED:20200120T152819Z
UID:2065-1579806000-1579813200@gnf.ca
SUMMARY:Bros & Brews
DESCRIPTION:A guys’ group that meets once a month to try out local brew houses and chat about life\, the universe and everything. The occasional #DadJoke is allowed but being a dad is not required! This group is primarily dedicated to connecting and sharing our joys and struggles as men of God.
URL:https://gnf.ca/event/bros-brews-8/
LOCATION:Brazen Hall\, 800 Pembina Hwy.\, Winnipeg\, Manitoba\, R3M 2M7\, Canada
CATEGORIES:Small Groups
ATTACH;FMTTYPE=image/jpeg:https://gnf.ca/wp-content/uploads/2018/10/Guys-Group.jpg
ORGANIZER;CN="Jeremy Wells":MAILTO:jwellsmusic@gmail.com
END:VEVENT
BEGIN:VEVENT
DTSTART;TZID=UTC:20200116T190000
DTEND;TZID=UTC:20200116T210000
DTSTAMP:20260420T100537
CREATED:20200107T165757Z
LAST-MODIFIED:20200107T165757Z
UID:2049-1579201200-1579208400@gnf.ca
SUMMARY:Refugio
DESCRIPTION:(Formerly Dunamis) This small group meets every other week to pray together and to explore the Gifts of the Holy Spirit together. All are welcome to attend. Please email John Parsons for more information.
URL:https://gnf.ca/event/refugio-2/
LOCATION:GNF\, 891 St. Mary's Rd.\, Winnipeg\, Manitoba\, R2M 3R2\, Canada
CATEGORIES:Small Groups
ATTACH;FMTTYPE=image/png:https://gnf.ca/wp-content/uploads/2019/10/the-lord-is-my-refuge.png
ORGANIZER;CN="John Parsons":MAILTO:familyparsons2@gmail.com
END:VEVENT
BEGIN:VEVENT
DTSTART;TZID=UTC:20200110T190000
DTEND;TZID=UTC:20200110T210000
DTSTAMP:20260420T100537
CREATED:20191120T164005Z
LAST-MODIFIED:20191120T164005Z
UID:2028-1578682800-1578690000@gnf.ca
SUMMARY:Games Night
DESCRIPTION:FREE EVENT! Enjoy a fun evening spent with family\, friends and fellow members of your community. Feel free to bring board games from home that you enjoy and some snacks to share!
URL:https://gnf.ca/event/games-night-3/
LOCATION:GNF\, 891 St. Mary's Rd.\, Winnipeg\, Manitoba\, R2M 3R2\, Canada
CATEGORIES:Small Groups
ATTACH;FMTTYPE=image/jpeg:https://gnf.ca/wp-content/uploads/2019/01/BoardGames-logo.jpg
ORGANIZER;CN="Katrina Vandal":MAILTO:kitkat101forever@gmail.com
END:VEVENT
BEGIN:VEVENT
DTSTART;TZID=UTC:20191218T200000
DTEND;TZID=UTC:20191218T220000
DTSTAMP:20260420T100537
CREATED:20191212T162718Z
LAST-MODIFIED:20191212T162718Z
UID:2031-1576699200-1576706400@gnf.ca
SUMMARY:A Very Bros & Brews Christmas
DESCRIPTION:Join our intrepid Winnipeg Brewhouse Adventurers as they seek to uncover the true meaning of Christmas over good conversation and good beer at the King’s Head Pub. All bros welcome!
URL:https://gnf.ca/event/a-very-bros-brews-christmas/
LOCATION:King’s Head Pub\, 120 King Street\, Winnipeg\, Manitoba\, R3B 1H9\, Canada
CATEGORIES:Small Groups
ATTACH;FMTTYPE=image/jpeg:https://gnf.ca/wp-content/uploads/2019/12/71360910-christmas-cheers-celebration-party-xmas-concept.jpg
ORGANIZER;CN="Jeremy Wells":MAILTO:jwellsmusic@gmail.com
END:VEVENT
BEGIN:VEVENT
DTSTART;TZID=UTC:20191213T190000
DTEND;TZID=UTC:20191213T210000
DTSTAMP:20260420T100537
CREATED:20191120T163733Z
LAST-MODIFIED:20191120T163733Z
UID:2026-1576263600-1576270800@gnf.ca
SUMMARY:Games Night
DESCRIPTION:FREE EVENT! Enjoy a fun evening spent with family\, friends and fellow members of your community. Feel free to bring board games from home that you enjoy and some snacks to share!
URL:https://gnf.ca/event/games-night-2/
LOCATION:GNF\, 891 St. Mary's Rd.\, Winnipeg\, Manitoba\, R2M 3R2\, Canada
CATEGORIES:Small Groups
ATTACH;FMTTYPE=image/jpeg:https://gnf.ca/wp-content/uploads/2019/01/BoardGames-logo.jpg
ORGANIZER;CN="Katrina Vandal":MAILTO:kitkat101forever@gmail.com
END:VEVENT
BEGIN:VEVENT
DTSTART;TZID=UTC:20191127T193000
DTEND;TZID=UTC:20191127T213000
DTSTAMP:20260420T100537
CREATED:20191118T165227Z
LAST-MODIFIED:20191118T165227Z
UID:2013-1574883000-1574890200@gnf.ca
SUMMARY:Bros & Brews
DESCRIPTION:A guys’ group that meets once a month to try out local brew houses and chat about life\, the universe and everything. The occasional #DadJoke is allowed but being a dad is not required! This group is primarily dedicated to connecting and sharing our joys and struggles as men of God.
URL:https://gnf.ca/event/bros-brews-7/
LOCATION:Leopold’s Tavern\, 696 Osborne St\, Winnipeg\, Manitoba\, R3L 2B9\, Canada
CATEGORIES:Small Groups
ATTACH;FMTTYPE=image/jpeg:https://gnf.ca/wp-content/uploads/2018/10/Guys-Group.jpg
ORGANIZER;CN="Jeremy Wells":MAILTO:jwellsmusic@gmail.com
END:VEVENT
BEGIN:VEVENT
DTSTART;TZID=UTC:20191122T190000
DTEND;TZID=UTC:20191122T210000
DTSTAMP:20260420T100537
CREATED:20191120T163526Z
LAST-MODIFIED:20191120T163526Z
UID:2023-1574449200-1574456400@gnf.ca
SUMMARY:Games Night
DESCRIPTION:FREE EVENT! Enjoy a fun evening spent with family\, friends and fellow members of your community. Feel free to bring board games from home that you enjoy and some snacks to share!
URL:https://gnf.ca/event/games-night/
LOCATION:GNF\, 891 St. Mary's Rd.\, Winnipeg\, Manitoba\, R2M 3R2\, Canada
CATEGORIES:Small Groups
ATTACH;FMTTYPE=image/jpeg:https://gnf.ca/wp-content/uploads/2019/01/BoardGames-logo.jpg
ORGANIZER;CN="Katrina Vandal":MAILTO:kitkat101forever@gmail.com
END:VEVENT
BEGIN:VEVENT
DTSTART;TZID=UTC:20191121T190000
DTEND;TZID=UTC:20191121T210000
DTSTAMP:20260420T100537
CREATED:20191022T183346Z
LAST-MODIFIED:20191022T183346Z
UID:1978-1574362800-1574370000@gnf.ca
SUMMARY:Refugio Meeting
DESCRIPTION:(Formerly Dunamis) This small group meets every other week to pray together and to explore the Gifts of the Holy Spirit together. All are welcome to attend. Please email John Parsons for more information.
URL:https://gnf.ca/event/refugio-meeting-3/
LOCATION:GNF\, 891 St. Mary's Rd.\, Winnipeg\, Manitoba\, R2M 3R2\, Canada
CATEGORIES:Small Groups
ATTACH;FMTTYPE=image/png:https://gnf.ca/wp-content/uploads/2019/10/the-lord-is-my-refuge.png
ORGANIZER;CN="John Parsons":MAILTO:familyparsons2@gmail.com
END:VEVENT
BEGIN:VEVENT
DTSTART;TZID=UTC:20191120T194500
DTEND;TZID=UTC:20191120T214500
DTSTAMP:20260420T100537
CREATED:20191022T183851Z
LAST-MODIFIED:20191022T183851Z
UID:1984-1574279100-1574286300@gnf.ca
SUMMARY:TRC Book Study
DESCRIPTION:This group is committed to diving deeper into the Truth and Reconciliation Report through a dedicated study of the book “The Inconvenient Indian” by Thomas King. Contact Paul Unger for more details!
URL:https://gnf.ca/event/trc-book-study-8/
LOCATION:Paul Unger’s\, 981 Grosvner Ave.\, Winnipeg\, Manitoba\, R3M 0M6\, Canada
CATEGORIES:Small Groups
ATTACH;FMTTYPE=image/jpeg:https://gnf.ca/wp-content/uploads/2019/10/inconvienent-indian.jpg
ORGANIZER;CN="Paul Unger":MAILTO:punger09@gmail.com
END:VEVENT
BEGIN:VEVENT
DTSTART;TZID=UTC:20191109T090000
DTEND;TZID=UTC:20191109T113000
DTSTAMP:20260420T100537
CREATED:20191022T163131Z
LAST-MODIFIED:20191022T163131Z
UID:1972-1573290000-1573299000@gnf.ca
SUMMARY:Contemplative Bible Study
DESCRIPTION:This group talks about and deeply contemplates the word of God. Contact Jayne Vander Zaag for more details!
URL:https://gnf.ca/event/contemplative-bible-study-19/
LOCATION:Jayne Vander Zaag’s\, 247 Kingston Row\, Winnipeg\, Manitoba\, R2M 0T1\, Canada
CATEGORIES:Small Groups
ATTACH;FMTTYPE=image/jpeg:https://gnf.ca/wp-content/uploads/2018/10/bible-study_724_482_80.jpg
ORGANIZER;CN="Jayne Vander Zaag":MAILTO:jaynevdz@mts.net
END:VEVENT
BEGIN:VEVENT
DTSTART;TZID=UTC:20191107T190000
DTEND;TZID=UTC:20191107T210000
DTSTAMP:20260420T100537
CREATED:20191022T183155Z
LAST-MODIFIED:20191022T183155Z
UID:1976-1573153200-1573160400@gnf.ca
SUMMARY:Refugio
DESCRIPTION:(Formerly Dunamis) This small group meets every other week to pray together and to explore the Gifts of the Holy Spirit together. All are welcome to attend. Please email John Parsons for more information.
URL:https://gnf.ca/event/refugio/
LOCATION:GNF\, 891 St. Mary's Rd.\, Winnipeg\, Manitoba\, R2M 3R2\, Canada
CATEGORIES:Small Groups
ATTACH;FMTTYPE=image/png:https://gnf.ca/wp-content/uploads/2019/10/the-lord-is-my-refuge.png
ORGANIZER;CN="John Parsons":MAILTO:familyparsons2@gmail.com
END:VEVENT
BEGIN:VEVENT
DTSTART;TZID=UTC:20191026T090000
DTEND;TZID=UTC:20191026T233000
DTSTAMP:20260420T100537
CREATED:20191002T172227Z
LAST-MODIFIED:20191002T172227Z
UID:1946-1572080400-1572132600@gnf.ca
SUMMARY:Contemplative Bible Study
DESCRIPTION:This group talks about and deeply contemplates the word of God. Contact Jayne Vander Zaag for more details!
URL:https://gnf.ca/event/contemplative-bible-study-18/
LOCATION:Jayne Vander Zaag’s\, 247 Kingston Row\, Winnipeg\, Manitoba\, R2M 0T1\, Canada
CATEGORIES:Small Groups
ATTACH;FMTTYPE=image/jpeg:https://gnf.ca/wp-content/uploads/2018/10/bible-study_724_482_80.jpg
ORGANIZER;CN="Jayne Vander Zaag":MAILTO:jaynevdz@mts.net
END:VEVENT
BEGIN:VEVENT
DTSTART;TZID=UTC:20191023T193000
DTEND;TZID=UTC:20191023T213000
DTSTAMP:20260420T100537
CREATED:20191022T162847Z
LAST-MODIFIED:20191022T162847Z
UID:1969-1571859000-1571866200@gnf.ca
SUMMARY:Bros & Brews
DESCRIPTION:A guys’ group that meets once a month to try out local brew houses and chat about life\, the universe and everything. The occasional #DadJoke is allowed but being a dad is not required! This group is primarily dedicated to connecting and sharing our joys and struggles as men of God.
URL:https://gnf.ca/event/bros-brews-6/
LOCATION:One Great City Brewing\, 1596 Ness Ave.\, Winnipeg\, Manitoba\, R3J 3W6\, Canada
CATEGORIES:Small Groups
ATTACH;FMTTYPE=image/jpeg:https://gnf.ca/wp-content/uploads/2018/10/Guys-Group.jpg
ORGANIZER;CN="Don Amero":MAILTO:donamero@gmail.com
END:VEVENT
BEGIN:VEVENT
DTSTART;TZID=UTC:20191017T190000
DTEND;TZID=UTC:20191017T210000
DTSTAMP:20260420T100537
CREATED:20191002T171045Z
LAST-MODIFIED:20191002T171045Z
UID:1933-1571338800-1571346000@gnf.ca
SUMMARY:Refugio Meeting
DESCRIPTION:(Formerly Dunamis) This small group meets every other week to pray together and to explore the Gifts of the Holy Spirit together. All are welcome to attend. Please email John Parsons for more information.
URL:https://gnf.ca/event/refugio-meeting-2/
LOCATION:GNF\, 891 St. Mary's Rd.\, Winnipeg\, Manitoba\, R2M 3R2\, Canada
CATEGORIES:Small Groups
ATTACH;FMTTYPE=image/png:https://gnf.ca/wp-content/uploads/2019/10/the-lord-is-my-refuge.png
ORGANIZER;CN="John Parsons":MAILTO:familyparsons2@gmail.com
END:VEVENT
BEGIN:VEVENT
DTSTART;TZID=UTC:20191016T190000
DTEND;TZID=UTC:20191016T210000
DTSTAMP:20260420T100537
CREATED:20191002T171437Z
LAST-MODIFIED:20191002T171437Z
UID:1935-1571252400-1571259600@gnf.ca
SUMMARY:TRC Book Study
DESCRIPTION:This group is committed to diving deeper into the Truth and Reconciliation Report through a dedicated study of the book “The Inconvenient Indian” by Thomas King. Contact Paul Unger for more details!
URL:https://gnf.ca/event/trc-book-study-7/
LOCATION:Paul Unger’s\, 981 Grosvner Ave.\, Winnipeg\, Manitoba\, R3M 0M6\, Canada
CATEGORIES:Small Groups
ATTACH;FMTTYPE=image/jpeg:https://gnf.ca/wp-content/uploads/2019/10/inconvienent-indian.jpg
ORGANIZER;CN="Paul Unger":MAILTO:punger09@gmail.com
END:VEVENT
BEGIN:VEVENT
DTSTART;TZID=UTC:20191012T090000
DTEND;TZID=UTC:20191012T113000
DTSTAMP:20260420T100537
CREATED:20191002T172104Z
LAST-MODIFIED:20191002T172104Z
UID:1944-1570870800-1570879800@gnf.ca
SUMMARY:Contemplative Bible Study
DESCRIPTION:This group talks about and deeply contemplates the word of God. Contact Jayne Vander Zaag for more details!
URL:https://gnf.ca/event/contemplative-bible-study-15/
LOCATION:Jayne Vander Zaag’s\, 247 Kingston Row\, Winnipeg\, Manitoba\, R2M 0T1\, Canada
CATEGORIES:Small Groups
ATTACH;FMTTYPE=image/jpeg:https://gnf.ca/wp-content/uploads/2018/10/bible-study_724_482_80.jpg
ORGANIZER;CN="Jayne Vander Zaag":MAILTO:jaynevdz@mts.net
END:VEVENT
BEGIN:VEVENT
DTSTART;TZID=UTC:20191003T190000
DTEND;TZID=UTC:20191003T210000
DTSTAMP:20260420T100537
CREATED:20191002T170848Z
LAST-MODIFIED:20191002T170848Z
UID:1930-1570129200-1570136400@gnf.ca
SUMMARY:Refugio Meeting
DESCRIPTION:(Formerly Dunamis) This small group meets every other week to pray together and to explore the Gifts of the Holy Spirit together. All are welcome to attend. Please email John Parsons for more information.
URL:https://gnf.ca/event/refugio-meeting/
LOCATION:GNF\, 891 St. Mary's Rd.\, Winnipeg\, Manitoba\, R2M 3R2\, Canada
CATEGORIES:Small Groups
ATTACH;FMTTYPE=image/png:https://gnf.ca/wp-content/uploads/2019/10/the-lord-is-my-refuge.png
ORGANIZER;CN="John Parsons":MAILTO:familyparsons2@gmail.com
END:VEVENT
BEGIN:VEVENT
DTSTART;TZID=UTC:20190622T090000
DTEND;TZID=UTC:20190622T113000
DTSTAMP:20260420T100537
CREATED:20190430T202643Z
LAST-MODIFIED:20190430T203033Z
UID:1802-1561194000-1561203000@gnf.ca
SUMMARY:Contemplative Bible Study
DESCRIPTION:This group talks about and deeply contemplates the word of God. Contact Jayne Vander Zaag for more details!
URL:https://gnf.ca/event/contemplative-bible-study-17/
LOCATION:Jayne Vander Zaag’s\, 247 Kingston Row\, Winnipeg\, Manitoba\, R2M 0T1\, Canada
CATEGORIES:Small Groups
ATTACH;FMTTYPE=image/jpeg:https://gnf.ca/wp-content/uploads/2018/10/bible-study_724_482_80.jpg
ORGANIZER;CN="Jayne Vander Zaag":MAILTO:jaynevdz@mts.net
END:VEVENT
BEGIN:VEVENT
DTSTART;TZID=UTC:20190621T190000
DTEND;TZID=UTC:20190621T210000
DTSTAMP:20260420T100537
CREATED:20190529T183543Z
LAST-MODIFIED:20190529T183543Z
UID:1817-1561143600-1561150800@gnf.ca
SUMMARY:Unbored Game Night
DESCRIPTION:FREE EVENT! Enjoy a fun evening spent with family\, friends and fellow members of your community. Feel free to bring games from home that you enjoy and some snacks to share! Also\, you’ll have a chance to meet some folks from the CRCNA’s Resonate mission! Our church is participating in Resonate’s Go Local initiative\, so come on out and meet some of the people helping and supporting us through that journey!
URL:https://gnf.ca/event/unbored-game-night-7/
LOCATION:GNF\, 891 St. Mary's Rd.\, Winnipeg\, Manitoba\, R2M 3R2\, Canada
CATEGORIES:Small Groups
ATTACH;FMTTYPE=image/jpeg:https://gnf.ca/wp-content/uploads/2019/01/BoardGames-logo.jpg
ORGANIZER;CN="Cathie Chapman":MAILTO:info@gnf.ca
END:VEVENT
BEGIN:VEVENT
DTSTART;TZID=UTC:20190620T080000
DTEND;TZID=UTC:20190620T170000
DTSTAMP:20260420T100537
CREATED:20190430T202859Z
LAST-MODIFIED:20190430T202859Z
UID:1806-1561017600-1561050000@gnf.ca
SUMMARY:Dunamis Meeting
DESCRIPTION:This small group meets every other week to pray together and to explore the Gifts of the Holy Spirit together. All are welcome to attend. Please email John Parsons for more information.
URL:https://gnf.ca/event/dunamis-meeting-16/
LOCATION:GNF\, 891 St. Mary's Rd.\, Winnipeg\, Manitoba\, R2M 3R2\, Canada
CATEGORIES:Small Groups
ATTACH;FMTTYPE=image/png:https://gnf.ca/wp-content/uploads/2018/10/Gtcsignup.png
ORGANIZER;CN="John Parsons":MAILTO:familyparsons2@gmail.com
END:VEVENT
BEGIN:VEVENT
DTSTART;TZID=UTC:20190608T090000
DTEND;TZID=UTC:20190608T113000
DTSTAMP:20260420T100537
CREATED:20190430T202549Z
LAST-MODIFIED:20190430T202957Z
UID:1800-1559984400-1559993400@gnf.ca
SUMMARY:Contemplative Bible Study
DESCRIPTION:This group talks about and deeply contemplates the word of God. Contact Jayne Vander Zaag for more details!
URL:https://gnf.ca/event/contemplative-bible-study-16/
LOCATION:Jayne Vander Zaag’s\, 247 Kingston Row\, Winnipeg\, Manitoba\, R2M 0T1\, Canada
CATEGORIES:Small Groups
ATTACH;FMTTYPE=image/jpeg:https://gnf.ca/wp-content/uploads/2018/10/bible-study_724_482_80.jpg
ORGANIZER;CN="Jayne Vander Zaag":MAILTO:jaynevdz@mts.net
END:VEVENT
BEGIN:VEVENT
DTSTART;TZID=UTC:20190606T190000
DTEND;TZID=UTC:20190606T210000
DTSTAMP:20260420T100537
CREATED:20190430T202812Z
LAST-MODIFIED:20190430T202812Z
UID:1804-1559847600-1559854800@gnf.ca
SUMMARY:Dunamis Meeting
DESCRIPTION:This small group meets every other week to pray together and to explore the Gifts of the Holy Spirit together. All are welcome to attend. Please email John Parsons for more information.
URL:https://gnf.ca/event/dunamis-meeting-15/
LOCATION:GNF\, 891 St. Mary's Rd.\, Winnipeg\, Manitoba\, R2M 3R2\, Canada
CATEGORIES:Small Groups
ATTACH;FMTTYPE=image/png:https://gnf.ca/wp-content/uploads/2018/10/Gtcsignup.png
ORGANIZER;CN="John Parsons":MAILTO:familyparsons2@gmail.com
END:VEVENT
BEGIN:VEVENT
DTSTART;TZID=UTC:20190531T190000
DTEND;TZID=UTC:20190531T210000
DTSTAMP:20260420T100537
CREATED:20190529T182914Z
LAST-MODIFIED:20190529T182914Z
UID:1815-1559329200-1559336400@gnf.ca
SUMMARY:Unbored Game Night
DESCRIPTION:FREE EVENT! Enjoy a fun evening spent with family\, friends and fellow members of your community. Feel free to bring games from home that you enjoy and some snacks to share!
URL:https://gnf.ca/event/unbored-game-night-6/
LOCATION:GNF\, 891 St. Mary's Rd.\, Winnipeg\, Manitoba\, R2M 3R2\, Canada
CATEGORIES:Small Groups
ATTACH;FMTTYPE=image/jpeg:https://gnf.ca/wp-content/uploads/2019/01/BoardGames-logo.jpg
ORGANIZER;CN="Cathie Chapman":MAILTO:info@gnf.ca
END:VEVENT
END:VCALENDAR