BEGIN:VCALENDAR
VERSION:2.0
PRODID:-//GNF - ECPv6.15.16//NONSGML v1.0//EN
CALSCALE:GREGORIAN
METHOD:PUBLISH
X-ORIGINAL-URL:https://gnf.ca
X-WR-CALDESC:Events for GNF
REFRESH-INTERVAL;VALUE=DURATION:PT1H
X-Robots-Tag:noindex
X-PUBLISHED-TTL:PT1H
BEGIN:VTIMEZONE
TZID:UTC
BEGIN:STANDARD
TZOFFSETFROM:+0000
TZOFFSETTO:+0000
TZNAME:UTC
DTSTART:20170101T000000
END:STANDARD
END:VTIMEZONE
BEGIN:VEVENT
DTSTART;TZID=UTC:20181112T190000
DTEND;TZID=UTC:20181112T210000
DTSTAMP:20260420T145418
CREATED:20181016T175428Z
LAST-MODIFIED:20181016T175428Z
UID:1426-1542049200-1542056400@gnf.ca
SUMMARY:Leadership Team Meeting
DESCRIPTION:Our Leadership Team is made up of members of all the ministry teams that keep our church running. We meet monthly to connect\, check in\, ask for what we need and offer what we can. Have a matter you think we should address? Contact us!
URL:https://gnf.ca/event/leadership-team-meeting/
LOCATION:GNF\, 891 St. Mary's Rd.\, Winnipeg\, Manitoba\, R2M 3R2\, Canada
CATEGORIES:Ministries
ORGANIZER;CN="Krista dela Rosa":MAILTO:krista@gnf.ca
END:VEVENT
BEGIN:VEVENT
DTSTART;TZID=UTC:20181105T190000
DTEND;TZID=UTC:20181105T210000
DTSTAMP:20260420T145418
CREATED:20181016T174203Z
LAST-MODIFIED:20181016T174348Z
UID:1410-1541444400-1541451600@gnf.ca
SUMMARY:SPI Team Meeting
DESCRIPTION:Our Service Planning and Implementation (SPI) Team meets monthly to plan our Sunday services! Have a suggestion for a theme\, speaker or reading? Click this event to contact us!
URL:https://gnf.ca/event/spi-team-meeting/
LOCATION:GNF\, 891 St. Mary's Rd.\, Winnipeg\, Manitoba\, R2M 3R2\, Canada
CATEGORIES:Ministries
ORGANIZER;CN="Krista dela Rosa":MAILTO:krista@gnf.ca
END:VEVENT
BEGIN:VEVENT
DTSTART;TZID=UTC:20181101T190000
DTEND;TZID=UTC:20181101T210000
DTSTAMP:20260420T145418
CREATED:20181016T173807Z
LAST-MODIFIED:20181016T174246Z
UID:1408-1541098800-1541106000@gnf.ca
SUMMARY:Elders' Meeting
DESCRIPTION:Our elder team meets monthly to discuss the spiritual oversight of our congregation. If there is something you feel our elder team needs to discuss\, please feel welcome to email them (click this event for contact info).
URL:https://gnf.ca/event/elders-meeting/
LOCATION:GNF\, 891 St. Mary's Rd.\, Winnipeg\, Manitoba\, R2M 3R2\, Canada
CATEGORIES:Ministries
ORGANIZER;CN="Elder Team":MAILTO:elders@gnf.ca
END:VEVENT
END:VCALENDAR